BEGIN:VCALENDAR
VERSION:2.0
PRODID:KKTIX
CALSCALE:GREGORIAN
METHOD:PUBLISH
BEGIN:VTIMEZONE
TZID:Asia/Taipei
END:VTIMEZONE
BEGIN:VEVENT
DTSTAMP:20260420T134539Z
UID:fb51588e-851a-432c-ad77-325fab355093
DTSTART:20260530T120000Z
DTEND:20260530T120000Z
CLASS:PUBLIC
DESCRIPTION:https://asiaworld-expo.kktix.cc/events/kaf-hk-2026
LOCATION: (AsiaWorld-Expo\, Hall 10) 亞洲國際博覽館 10號展館
SUMMARY:花譜 | 宿聲 in Hong Kong
END:VEVENT
END:VCALENDAR
